BEGIN:VCALENDAR
VERSION:2.0
PRODID:-//ChamberMaster//Event Calendar 2.0//EN
METHOD:PUBLISH
X-PUBLISHED-TTL:P3D
REFRESH-INTERVAL:P3D
CALSCALE:GREGORIAN
BEGIN:VEVENT
DTSTART:20180927T013000Z
DTEND:20180927T030000Z
X-MICROSOFT-CDO-ALLDAYEVENT:FALSE
SUMMARY:High School Night @ Don Bosco Tech
DESCRIPTION:Don Bosco Technical Institute (Bosco Tech) will present "Gear Up for High School\," a high school preview night for elementary and middle school students on Wednesday\, September 26\, 2018\, from 6:30 to 8 p.m. on the school's Rosemead campus.\n\nDuring the complimentary event\, representatives from local Catholic private and archdiocesan high schools will provide information and answer questions about their admissions process\, curriculum\, and academic and extracurricular programs. \n\nParking is available in both the lot located on San Gabriel Blvd. and the lot off Arroyo Dr.\, between Rose Glen Ave. and Paramount Blvd.
X-ALT-DESC;FMTTYPE=text/html:<div style="margin:0 0 10pt 0\;"><font face="Times New Roman\,serif" size="3"><span style="font-size:12pt\;"><font face="Arial\,sans-serif" size="2"><span style="font-size:10pt\;">Don Bosco Technical Institute (Bosco Tech) will present &ldquo\;Gear Up for High School\,&rdquo\; a high school preview night for elementary and middle school students on Wednesday\, September 26\, 2018\, from 6:30 to 8 p.m. on the school&rsquo\;s Rosemead campus.</span></font></span></font></div>\n\n<div style="margin:0 0 10pt 0\;"><font face="Times New Roman\,serif" size="3"><span style="font-size:12pt\;"><font face="Arial\,sans-serif" size="2"><span style="font-size:10pt\;">During the complimentary event\, representatives from local Catholic private and archdiocesan high schools will provide information and answer questions about their admissions process\, curriculum\, and academic and extracurricular programs. </span></font></span></font></div>\n\n<div style="margin:0 0 10pt 0\;"><font face="Times New Roman\,serif" size="3"><span style="font-size:12pt\;"><font face="Arial\,sans-serif" size="2"><span style="font-size:10pt\;">Parking is available in both the lot located on San Gabriel Blvd. and the lot off Arroyo Dr.\, between Rose Glen Ave. and Paramount Blvd.&nbsp\;</span></font></span></font></div>\n\n<div style="margin:0\;">&nbsp\;</div>\n
LOCATION:Don Bosco Technical Institute 1151 San Gabriel Boulevard Rosemead\, CA 91770-4251
UID:e.1156.2856
SEQUENCE:3
DTSTAMP:20260419T202106Z
URL:https://www.montebellochamber.org/events/details/high-school-night-don-bosco-tech-2856
END:VEVENT

END:VCALENDAR
