BEGIN:VCALENDAR
VERSION:2.0
PRODID:-//ChamberMaster//Event Calendar 2.0//EN
METHOD:PUBLISH
X-PUBLISHED-TTL:P3D
REFRESH-INTERVAL:P3D
CALSCALE:GREGORIAN
BEGIN:VEVENT
DTSTART:20141031T000000Z
DTEND:20141031T010000Z
X-MICROSOFT-CDO-ALLDAYEVENT:FALSE
SUMMARY:Hip Hop Class
DESCRIPTION:This class is an energetic class focusing on the basics and foundation for hip hop movement and choreography. Free style movement will also play a part during classes so that students can learn to create their own unique movements an style outside of the choreographed routines.
X-ALT-DESC;FMTTYPE=text/html:This class is an energetic class focusing on the basics and foundation for hip hop movement and choreography. Free style movement will also play a part during classes so that students can learn to create their own unique movements an style outside of the choreographed routines.
LOCATION:Montebello Senior Center (upstairs) 115 S. Taylor Ave. Montebello
UID:e.1156.1125
SEQUENCE:3
DTSTAMP:20260419T143131Z
URL:https://www.montebellochamber.org/events/details/hip-hop-class-10-30-2014-1125
END:VEVENT

END:VCALENDAR
