BEGIN:VCALENDAR
VERSION:2.0
PRODID:-//ChamberMaster//Event Calendar 2.0//EN
METHOD:PUBLISH
X-PUBLISHED-TTL:P3D
REFRESH-INTERVAL:P3D
CALSCALE:GREGORIAN
BEGIN:VEVENT
DTSTART:20190501T160000Z
DTEND:20190501T190000Z
X-MICROSOFT-CDO-ALLDAYEVENT:FALSE
SUMMARY:Hiring Event-AYE-America's Job Center
DESCRIPTION:AYE-America's Job Center\n\nLos Angeles County Supervisor Hilda L. Solis invites you to the East Los Angeles Community Event!! Over 30 Direct-Hire Employers\, free training and community resources.
X-ALT-DESC;FMTTYPE=text/html:AYE-America&#39\;s Job Center<br />\nLos Angeles County Supervisor Hilda L. Solis invites you to the East Los Angeles Community Event!! Over 30 Direct-Hire Employers\, free training and community resources.&nbsp\;
LOCATION:East Los Angeles Community Center 133 N. Sunol Drive Los Angeles\, CA 90063
UID:e.1156.3298
SEQUENCE:3
DTSTAMP:20260419T130736Z
URL:https://www.montebellochamber.org/events/details/hiring-event-aye-america-s-job-center-3298
END:VEVENT

END:VCALENDAR
