BEGIN:VCALENDAR
VERSION:2.0
PRODID:-//ChamberMaster//Event Calendar 2.0//EN
METHOD:PUBLISH
X-PUBLISHED-TTL:P3D
REFRESH-INTERVAL:P3D
CALSCALE:GREGORIAN
BEGIN:VEVENT
DTSTART:20180912T010000Z
DTEND:20180912T040000Z
X-MICROSOFT-CDO-ALLDAYEVENT:FALSE
SUMMARY:Hiring Event - Funeraria del Angel
DESCRIPTION:Take control of your career--come learn about career opportunities at Funeraria del Angel in Montebello
X-ALT-DESC;FMTTYPE=text/html:Take control of your career--come learn about career opportunities at Funeraria del Angel in Montebello
LOCATION:Funeraria del Angel 913 W. Whittier Blvd. Montebello\, Ca 90640
UID:e.1156.2853
SEQUENCE:3
DTSTAMP:20260419T202440Z
URL:https://www.montebellochamber.org/events/details/hiring-event-funeraria-del-angel-2853
END:VEVENT

END:VCALENDAR
