BEGIN:VCALENDAR
VERSION:2.0
PRODID:-//ChamberMaster//Event Calendar 2.0//EN
METHOD:PUBLISH
X-PUBLISHED-TTL:P3D
REFRESH-INTERVAL:P3D
CALSCALE:GREGORIAN
BEGIN:VEVENT
DTSTART;VALUE=DATE:20181006
DTEND;VALUE=DATE:20181007
TRANSP:TRANSPARENT
X-MICROSOFT-CDO-ALLDAYEVENT:TRUE
SUMMARY:Hispanic Heritage Celebration
DESCRIPTION:The Shops at Montebello invites the local community to celebrate Hispanic Heritage Month by paying tribute to the histories\, cultures and contributions of American citizens with Spanish\, Mexican\, Caribbean and Central and South American ancestry. The center will host two special events on October 6 and 12 with entertainment and giveaways for attendees to enjoy.\n\n \n\nOn October 6\, the center will host Steps of Gold Dance Company and Mariachi Potrillos from 1-2:30 p.m. in Center Court. Steps of Gold will perform a traditional Mexican folkloric dance and Mariachi Potrillos will entertain shoppers with their traditional mariachi music. The first 100 attendees will receive a gift bag filled with special offers. The center will provide complimentary churros and pan dulce while supplies last.
X-ALT-DESC;FMTTYPE=text/html:The Shops at Montebello invites the local community to celebrate Hispanic Heritage Month by paying tribute to the histories\, cultures and contributions of American citizens with Spanish\, Mexican\, Caribbean and Central and South American ancestry. The center will host two special events on October 6 and 12 with entertainment and giveaways for attendees to enjoy.<br />\n&nbsp\;<br />\nOn October 6\, the center will host Steps of Gold Dance Company and Mariachi Potrillos from 1-2:30 p.m. in Center Court. Steps of Gold will perform a traditional Mexican folkloric dance and Mariachi Potrillos will entertain shoppers with their traditional mariachi music. The first 100 attendees will receive a gift bag filled with special offers. The center will provide complimentary churros and pan dulce while supplies last.<br />\n&nbsp\;
LOCATION:The Shops at Montebello 2134 Montebello Town Center Montebello\, CA 90640
UID:e.1156.2885
SEQUENCE:3
DTSTAMP:20260419T184923Z
URL:https://www.montebellochamber.org/events/details/hispanic-heritage-celebration-2885
END:VEVENT

END:VCALENDAR
