BEGIN:VCALENDAR
VERSION:2.0
PRODID:-//ChamberMaster//Event Calendar 2.0//EN
METHOD:PUBLISH
X-PUBLISHED-TTL:P3D
REFRESH-INTERVAL:P3D
CALSCALE:GREGORIAN
BEGIN:VEVENT
DTSTART;VALUE=DATE:20181012
DTEND;VALUE=DATE:20181013
TRANSP:TRANSPARENT
X-MICROSOFT-CDO-ALLDAYEVENT:TRUE
SUMMARY:Hispanic Heritage Celebration
DESCRIPTION:The Shops at Montebello invites the local community to celebrate Hispanic Heritage Month by paying tribute to the histories\, cultures and contributions of American citizens with Spanish\, Mexican\, Caribbean and Central and South American ancestry. The center will host two special events on October 6 and 12 with entertainment and giveaways for attendees to enjoy.\n\n \n\nOn Friday\, October 12\, join La Suavecita 107.1 in Center Court from 6-8 p.m. for a celebration of Hispanic heritage. Radio personality\, Eddie "Piolin" Sotelo\, from the popular radio show\, "El Show de Piolin\," will make a special appearance at the event.
X-ALT-DESC;FMTTYPE=text/html:The Shops at Montebello invites the local community to celebrate Hispanic Heritage Month by paying tribute to the histories\, cultures and contributions of American citizens with Spanish\, Mexican\, Caribbean and Central and South American ancestry. The center will host two special events on October 6 and 12 with entertainment and giveaways for attendees to enjoy.<br />\n&nbsp\;<br />\nOn Friday\, October 12\, join La Suavecita 107.1 in Center Court from 6-8 p.m. for a celebration of Hispanic heritage. Radio personality\, Eddie &ldquo\;Piolin&rdquo\; Sotelo\, from the popular radio show\, &ldquo\;El Show de Piolin\,&rdquo\; will make a special appearance at the event.<br />\n&nbsp\;<br />\n&nbsp\;
LOCATION:The Shops at Montebello 2134 Montebello Town Center Montebello\, CA 90640
UID:e.1156.2886
SEQUENCE:3
DTSTAMP:20260419T201550Z
URL:https://www.montebellochamber.org/events/details/hispanic-heritage-celebration-2886
END:VEVENT

END:VCALENDAR
