BEGIN:VCALENDAR
VERSION:2.0
PRODID:-//ChamberMaster//Event Calendar 2.0//EN
METHOD:PUBLISH
X-PUBLISHED-TTL:P3D
REFRESH-INTERVAL:P3D
CALSCALE:GREGORIAN
BEGIN:VEVENT
DTSTART:20181202T180000Z
DTEND:20181202T230000Z
X-MICROSOFT-CDO-ALLDAYEVENT:FALSE
SUMMARY:Holiday Boutique
DESCRIPTION:Start your holiday shopping with various vendors\, take a photo with Mr. & Mrs. Santa and enjoy some freshly made tamales\, champurrado and delicious treats.
X-ALT-DESC;FMTTYPE=text/html:Start your holiday shopping with various vendors\, take a photo with Mr. &amp\; Mrs. Santa and enjoy some freshly made tamales\, champurrado and delicious treats.
LOCATION:Bosco Tech High School 1151 San Gabriel Blvd. Rosemead\, Ca. 91770
UID:e.1156.3091
SEQUENCE:3
DTSTAMP:20260419T155959Z
URL:https://www.montebellochamber.org/events/details/holiday-boutique-3091
END:VEVENT

END:VCALENDAR
