BEGIN:VCALENDAR
VERSION:2.0
PRODID:-//ChamberMaster//Event Calendar 2.0//EN
METHOD:PUBLISH
X-PUBLISHED-TTL:P3D
REFRESH-INTERVAL:P3D
CALSCALE:GREGORIAN
BEGIN:VEVENT
DTSTART:20151214T180000Z
DTEND:20160101T000000Z
X-MICROSOFT-CDO-ALLDAYEVENT:FALSE
SUMMARY:Holiday Fine Jewelry Sale
DESCRIPTION:GOLDEX FINE JEWELRY\n\nHOLIDAY SALE EVENT\n\n \nOur sparkling holiday sale starts December 14th with fabulous deals\, new merchandise\, personal shopper services and free gift wrapping to make holiday shopping a snap!  Click HERE to see our event catalog!\n\n\n\nNo time to shop?  Let our Personal Shopper do the shopping for you!  Just fill out our short online request form  with information about the gift recipient and your budget\, and we'll gather some gift ideas for you to review--it's free and there's no obligation!  Just click HERE to get started!
X-ALT-DESC;FMTTYPE=text/html:<div style="text-align: center\;"><span style="font-size: 14px\;"><strong>GOLDEX FINE JEWELRY<br />\nHOLIDAY SALE EVENT</strong></span><br />\n&nbsp\;</div>\n<span style="font-size: 16px\;">Our sparkling holiday sale starts December 14th with fabulous deals\, new merchandise\, personal shopper services and free gift wrapping to make holiday shopping a snap!&nbsp\; <a href="http://www.goldexjewelry.com/#!2015-holiday-gift-guide/c1j44">Click HERE to see our event catalog!</a><br />\n<br />\nNo time to shop?&nbsp\; Let our Personal Shopper do the shopping for you!&nbsp\; Just fill out our short online request form&nbsp\; with information about the gift recipient and your budget\, and we&#39\;ll gather some gift ideas for you to review--it&#39\;s free and there&#39\;s no obligation!&nbsp\; <a href="http://www.goldexjewelry.com/#!personal-shopper/c94c">Just click HERE to get started!</a></span><br />\n&nbsp\;
LOCATION:GOLDEX FINE JEWELRY 2445 W. WHITTIER BLVD.\, SUITE 201 MONTEBELLO\, CA 90640 BETWEEN GARFIELD AND CONCOURSE AVENUES\, NEXT TO ANIMAL HOSPITAL
UID:e.1156.1441
SEQUENCE:3
DTSTAMP:20260419T170446Z
URL:https://www.montebellochamber.org/events/details/holiday-fine-jewelry-sale-12-14-2015-1441
END:VEVENT

END:VCALENDAR
