BEGIN:VCALENDAR
VERSION:2.0
PRODID:-//ChamberMaster//Event Calendar 2.0//EN
METHOD:PUBLISH
X-PUBLISHED-TTL:P3D
REFRESH-INTERVAL:P3D
CALSCALE:GREGORIAN
BEGIN:VEVENT
DTSTART:20121211T190000Z
DTEND:20121211T220000Z
X-MICROSOFT-CDO-ALLDAYEVENT:FALSE
SUMMARY:Holiday Lunch with Police Chief McClure
DESCRIPTION:Holiday Lunch with Police Chief McClure\n\n	Please join Police Chief Kevin McClure for a holiday get together.  Drop in anytime\, your participation will brighten our party and kindle the holiday spirit for those less fortunate.\n\n	\n\n	Lunch $10.00 plus New unwrapped gift $10.00 value\n\n	gift or toy for Children 12 years of age & under\n\n	\n\n	Toys will be donated to "Christmas at the Cannon"\n\n	Proceeds benefit "Montebello Police Explorers & Canine Unit"
X-ALT-DESC;FMTTYPE=text/html:<p>\n	<strong>Holiday Lunch with Police Chief McClure</strong><br />\n	Please join Police Chief Kevin McClure for a holiday get together.&nbsp\; Drop in anytime\, your participation will brighten our party and kindle the holiday spirit for those less fortunate.<br />\n	<br />\n	<strong>Lunch $10.00 plus New unwrapped gift $10.00 value</strong><br />\n	gift or toy for Children 12 years of age &amp\; under<br />\n	<br />\n	Toys will be donated to &quot\;Christmas at the Cannon&quot\;<br />\n	Proceeds benefit &quot\;Montebello Police Explorers &amp\; Canine Unit&quot\;<br />\n	&nbsp\;</p>\n
LOCATION:Montebello Senior Center 115 S. Taylor Ave. Montebello\, CA
UID:e.1156.673
SEQUENCE:3
DTSTAMP:20260419T202742Z
URL:https://www.montebellochamber.org/events/details/holiday-lunch-with-police-chief-mcclure-12-11-2012-673
END:VEVENT

END:VCALENDAR
