BEGIN:VCALENDAR
VERSION:2.0
PRODID:-//ChamberMaster//Event Calendar 2.0//EN
METHOD:PUBLISH
X-PUBLISHED-TTL:P3D
REFRESH-INTERVAL:P3D
CALSCALE:GREGORIAN
BEGIN:VEVENT
DTSTART:20151118T013000Z
DTEND:20151118T023000Z
X-MICROSOFT-CDO-ALLDAYEVENT:FALSE
SUMMARY:Holiday Safety Meeting with Montebello Police Dept.
DESCRIPTION:The Montebello Chamber of Commerce with the Montebello Police Department\n\ninvite you to attend a Holiday Safety Meeting\n\n\n\nLet's all learn how to stay safe during the holiday's!
X-ALT-DESC;FMTTYPE=text/html:<strong>The Montebello Chamber of Commerce with the Montebello Police Department<br />\ninvite you to attend a Holiday Safety Meeting<br />\n<br />\nLet&#39\;s all learn how to stay safe during the holiday&#39\;s!</strong>
LOCATION:Montebello Senior Center (Montebello City Park) 115 S. Taylor Ave. Montebello\, CA 90640
UID:e.1156.1431
SEQUENCE:3
DTSTAMP:20260419T153814Z
URL:https://www.montebellochamber.org/events/details/holiday-safety-meeting-with-montebello-police-dept-11-17-2015-1431
END:VEVENT

END:VCALENDAR
