BEGIN:VCALENDAR
VERSION:2.0
PRODID:-//ChamberMaster//Event Calendar 2.0//EN
METHOD:PUBLISH
X-PUBLISHED-TTL:P3D
REFRESH-INTERVAL:P3D
CALSCALE:GREGORIAN
BEGIN:VEVENT
DTSTART:20181206T020000Z
DTEND:20181206T030000Z
X-MICROSOFT-CDO-ALLDAYEVENT:FALSE
SUMMARY:Holiday Shopping Pop-Up
DESCRIPTION:The Shops at Montebello will provide entertainment in mall for shoppers' delight for 1 hour in Center Court.  Shoppers can look forward to getting makeup applied  by a makeup artist\, have themselves drawn by a caricature artist and getting a custom balloon creation from a balloon artist.
X-ALT-DESC;FMTTYPE=text/html:The Shops at Montebello will provide entertainment in mall for shoppers&#39\; delight for 1 hour in Center Court.&nbsp\; Shoppers can look forward to getting makeup applied&nbsp\; by a makeup artist\, have themselves drawn by a caricature artist and getting a custom balloon creation from a balloon artist.&nbsp\;&nbsp\;
LOCATION:2134 Montebello Town Center Montebello\, CA 9640
UID:e.1156.3122
SEQUENCE:3
DTSTAMP:20260419T160045Z
URL:https://www.montebellochamber.org/events/details/holiday-shopping-pop-up-3122
END:VEVENT

END:VCALENDAR
