BEGIN:VCALENDAR
VERSION:2.0
PRODID:-//ChamberMaster//Event Calendar 2.0//EN
METHOD:PUBLISH
X-PUBLISHED-TTL:P3D
REFRESH-INTERVAL:P3D
CALSCALE:GREGORIAN
BEGIN:VEVENT
DTSTART:20181215T010000Z
DTEND:20181215T050000Z
X-MICROSOFT-CDO-ALLDAYEVENT:FALSE
SUMMARY:Holiday Tree Lighting Cheer
DESCRIPTION:Holiday Tree Lighting Cheer\n\nCrafts & Food Vendors - Activities for Kids - Pictures with Santa!
X-ALT-DESC;FMTTYPE=text/html:Holiday Tree Lighting Cheer<br />\nCrafts &amp\; Food Vendors - Activities for Kids - Pictures with Santa!
LOCATION:Cathy Hensel Youth Center 236 George Hensel Dr. Montebello\, CA 90640
UID:e.1156.3115
SEQUENCE:3
DTSTAMP:20260419T155911Z
URL:https://www.montebellochamber.org/events/details/holiday-tree-lighting-cheer-3115
END:VEVENT

END:VCALENDAR
