BEGIN:VCALENDAR
VERSION:2.0
PRODID:-//ChamberMaster//Event Calendar 2.0//EN
METHOD:PUBLISH
X-PUBLISHED-TTL:P3D
REFRESH-INTERVAL:P3D
CALSCALE:GREGORIAN
BEGIN:VEVENT
DTSTART:20191107T170000Z
DTEND:20191108T020000Z
X-MICROSOFT-CDO-ALLDAYEVENT:FALSE
SUMMARY:Holmes Chiropractic-Patient Appreciation Day
DESCRIPTION:Holmes Chiropractic-Patient Appreciation Day \n\n\n\nHelp the unfortunate by helping yourself as well!  Receive free consultations\, mini-massages and adjustments when you contribute to this pre-holiday food drive!\n\n\n\nNew Patients:  Bring Minimum 3 large grocery bags full of non-perishable food items and receive a FREE consultation\, examination\, a mini massage\, and X-rays (if needed) \n\n\n\nExisting Patients: Bring minimum 2 large grocery bags full of non-perishable food items and receive a FREE adjustment and a mini massage.
X-ALT-DESC;FMTTYPE=text/html:Holmes Chiropractic-Patient Appreciation Day&nbsp\;<br />\n<br />\nHelp the unfortunate by helping yourself as well!&nbsp\; Receive free consultations\, mini-massages and adjustments when you contribute to this pre-holiday food drive!<br />\n<br />\nNew Patients:&nbsp\; Bring Minimum 3 large grocery bags full of non-perishable food items and receive a FREE consultation\, examination\, a mini massage\, and X-rays (if needed)&nbsp\;<br />\n<br />\nExisting Patients: Bring minimum 2 large grocery bags full of non-perishable food items and receive a FREE adjustment and a mini massage.&nbsp\;
LOCATION:Holmes Chiropractic 257 W. Pomona Blvd. Monterey Park\, CA 91754
UID:e.1156.3455
SEQUENCE:3
DTSTAMP:20260419T160111Z
URL:https://www.montebellochamber.org/events/details/holmes-chiropractic-patient-appreciation-day-3455
END:VEVENT

END:VCALENDAR
