BEGIN:VCALENDAR
VERSION:2.0
PRODID:-//ChamberMaster//Event Calendar 2.0//EN
METHOD:PUBLISH
X-PUBLISHED-TTL:P3D
REFRESH-INTERVAL:P3D
CALSCALE:GREGORIAN
BEGIN:VEVENT
DTSTART:20190223T180000Z
DTEND:20190223T210000Z
X-MICROSOFT-CDO-ALLDAYEVENT:FALSE
SUMMARY:Home Expo & Resource Fair
DESCRIPTION:The Montebello Housing Development Corporation presents\n\n\n\nHome Expo & Resource Fair\n\n\n\nFind out how to buy a home\, stop renting and get ready to purchase in 2019!
X-ALT-DESC;FMTTYPE=text/html:The Montebello Housing Development Corporation presents<br />\n<br />\nHome Expo &amp\; Resource Fair<br />\n<br />\nFind out how to buy a home\, stop renting and get ready to purchase in 2019!
LOCATION:Pico Park 9528 Beverly Blvd. Pico Rivera\, CA
UID:e.1156.3100
SEQUENCE:3
DTSTAMP:20260419T130220Z
URL:https://www.montebellochamber.org/events/details/home-expo-resource-fair-3100
END:VEVENT

END:VCALENDAR
