BEGIN:VCALENDAR
VERSION:2.0
PRODID:-//ChamberMaster//Event Calendar 2.0//EN
METHOD:PUBLISH
X-PUBLISHED-TTL:P3D
REFRESH-INTERVAL:P3D
CALSCALE:GREGORIAN
BEGIN:VEVENT
DTSTART:20190921T003000Z
DTEND:20190921T033000Z
X-MICROSOFT-CDO-ALLDAYEVENT:FALSE
SUMMARY:Home2 Suites 1 Year Anniversary Party
DESCRIPTION:Inviting all City of Montebello Residents & City of Montebello Employees and their families to Home2 Suites 1 Year Anniversary Party!
X-ALT-DESC;FMTTYPE=text/html:Inviting all City of Montebello Residents &amp\; City of Montebello Employees and their families to Home2 Suites 1 Year Anniversary Party!&nbsp\;&nbsp\;
LOCATION:Home2 Suites 988 Via San Clemente Montebello\, CA 90640
UID:e.1156.3442
SEQUENCE:3
DTSTAMP:20260420T053050Z
URL:https://www.montebellochamber.org/events/details/home2-suites-1-year-anniversary-party-3442
END:VEVENT

END:VCALENDAR
