BEGIN:VCALENDAR
VERSION:2.0
PRODID:-//ChamberMaster//Event Calendar 2.0//EN
METHOD:PUBLISH
X-PUBLISHED-TTL:P3D
REFRESH-INTERVAL:P3D
CALSCALE:GREGORIAN
BEGIN:VEVENT
DTSTART:20180519T160000Z
DTEND:20180519T190000Z
X-MICROSOFT-CDO-ALLDAYEVENT:FALSE
SUMMARY:Hope for the Homeless
DESCRIPTION:Heart of Compassion\n\nHope for the Homeless Outreach\n\n\n\nPlease save the date to volunteer!\n\n\n\nOur vision is to create a Cinderella Day of love and compassion\, called Hope for the Homeless\, Seniors\, and Families in need. Our goal is to make them feel special and loved through clothing\, hygiene products\, haircuts\, manicures\, and a warm meal\,and if needed a warm shower. Come have some pancakes and a side of scrambled eggs. This delicious free breakfast is open to those in need.\n\n\n\n*Transportation will be provided for able bodied homeless unfortunately we don't have accommodations for the disabled but they are still welcome to come but need to provide their own transportation.
X-ALT-DESC;FMTTYPE=text/html:<div style="text-align: center\;">Heart of Compassion<br />\nHope for the Homeless Outreach<br />\n<br />\nPlease save the date to volunteer!<br />\n<br />\nOur vision is to create a Cinderella Day of love and compassion\, called&nbsp\;<b>Hope for the Homeless\, Seniors\, and Families in need.&nbsp\;</b>Our goal is to make them feel special and loved through clothing\, hygiene products\, haircuts\, manicures\, and a warm meal\,and if needed a warm shower. Come have some pancakes and a side of scrambled eggs. This delicious free breakfast is open to those in need.<br />\n<br />\n*Transportation will be provided for able bodied homeless unfortunately we don&#39\;t have accommodations for the disabled but they are still welcome to come but need to provide their own transportation.</div>\n
LOCATION:600 South Maple Ave. Montebello\, CA 90640
UID:e.1156.2570
SEQUENCE:3
DTSTAMP:20260419T160114Z
URL:https://www.montebellochamber.org/events/details/hope-for-the-homeless-2570
END:VEVENT

END:VCALENDAR
