BEGIN:VCALENDAR
VERSION:2.0
PRODID:-//ChamberMaster//Event Calendar 2.0//EN
METHOD:PUBLISH
X-PUBLISHED-TTL:P3D
REFRESH-INTERVAL:P3D
CALSCALE:GREGORIAN
BEGIN:VEVENT
DTSTART:20180324T153000Z
DTEND:20180324T210000Z
X-MICROSOFT-CDO-ALLDAYEVENT:FALSE
SUMMARY:Hope for the Homeless Breakfast
DESCRIPTION:Come join us for Hope for the Homeless!\n\n\n\nCome Volunteer With Us For Our Event\n\nVolunteer Time: 8:30 a.m. - 2:00 p.m.\n\n\n\nOur vision on March 24\, 2018 is to create a Cinderella and Prince Charming day of love and compassion\, called Hope for the Homeless. Our goal is to make them feel special and loved through clothing\, hygiene products\, haircuts\, manicures\, and a warm meal\, and if needed a warm shower. All is provided at no cost to them. We need your help\, come volunteer and be the hands and feet of compassion. \n\n\n\nHere are some opportunities to help:\n\nVolunteering\n\nVolunteer Tasks: \n\nServing Food\, Distributing General Merchandise/Clothing\n\nyou can also assist by a monetary donation or sponsoring some of the products listed below\, and/or giving.\n\n\n\nWe need your help with:\n\n\n	Portable Showers\, Wash Cloths\, Towels\, Socks\, and Underwear\n	Hygiene Products: Shampoo\, Soap\, Toothpaste\, Toothbrushes\, Baby Wipes\, Hair Brushes\, Tissue Paper\n	Clothing: T-shirts\, Pants\, Sweaters\, Jackets\, and Shoes\n	Shuttle Bus
X-ALT-DESC;FMTTYPE=text/html:<div style="text-align: center\;"><strong>Come join us for Hope for the Homeless!</strong><br />\n<br />\nCome Volunteer With Us For Our Event<br />\nVolunteer Time: 8:30 a.m. - 2:00 p.m.<br />\n<br />\nOur vision on March 24\, 2018 is to create a Cinderella and Prince Charming day of love and compassion\, called Hope for the Homeless. Our goal is to make them feel special and loved through clothing\, hygiene products\, haircuts\, manicures\, and a warm meal\, and if needed a warm shower. All is provided at no cost to them. We need your help\, come volunteer and be the hands and feet of compassion.&nbsp\;<br />\n<br />\n<strong>Here are some opportunities to help:</strong><br />\nVolunteering<br />\nVolunteer Tasks:&nbsp\;<br />\nServing Food\, Distributing General Merchandise/Clothing<br />\nyou can also assist by a monetary donation or sponsoring some of the products listed below\, and/or giving.<br />\n<br />\n<strong>We need your help with:</strong></div>\n\n<ul>\n	<li style="text-align: center\;">Portable Showers\, Wash Cloths\, Towels\, Socks\, and Underwear</li>\n	<li style="text-align: center\;">Hygiene Products: Shampoo\, Soap\, Toothpaste\, Toothbrushes\, Baby Wipes\, Hair Brushes\, Tissue Paper</li>\n	<li style="text-align: center\;">Clothing: T-shirts\, Pants\, Sweaters\, Jackets\, and Shoes</li>\n	<li style="text-align: center\;">Shuttle Bus</li>\n</ul>\n
LOCATION:600 S. Maple Ave. Montebello\, CA 90640
UID:e.1156.2508
SEQUENCE:3
DTSTAMP:20260419T130435Z
URL:https://www.montebellochamber.org/events/details/hope-for-the-homeless-breakfast-2508
END:VEVENT

END:VCALENDAR
