BEGIN:VCALENDAR
VERSION:2.0
PRODID:-//ChamberMaster//Event Calendar 2.0//EN
METHOD:PUBLISH
X-PUBLISHED-TTL:P3D
REFRESH-INTERVAL:P3D
CALSCALE:GREGORIAN
BEGIN:VEVENT
DTSTART:20180616T160000Z
DTEND:20180616T190000Z
X-MICROSOFT-CDO-ALLDAYEVENT:FALSE
SUMMARY:Hope for the Homeless Breakfast
DESCRIPTION:Let's come together as a community and help stomp out homelessness and hunger!!\n\nResource booths\n\nHaircuts\, Blood Pressure\, Social Services\, Clothing\, General Merchandise\n\nFree Groceries 10AM - 12PM\n\nFirst 200 Families in need will receive a weeks supply of Food and other Essential items.\n\n\n\nShowers Start at 9am\n\nFood Distribution Starts at 10am\n\n\n\nVolunteering\n\nVolunteer Time: 8:30am-1pmish\n\n Tasks:\n\nServing Food\, Distributing General Merchandise/Clothing\, and Clean-Up\n\n \n\nParking Information:\n\n \n\nGuest Parking:\n\nApplied Technology School High School\n\n1200 W Mines Ave.\, Montebello\, CA 90640\n\nVolunteer Parking:\n\nWill be at the Northwest Corner of \n\nBeach Street and Maple Ave.\, Montebello\, CA 90640
X-ALT-DESC;FMTTYPE=text/html:<div style="text-align: center\;"><span style="color:black\;"><span style="font-family:tahoma\,sans-serif\;"><span style="font-size:18.0pt\;"><span style="font-size:20px\;">Let's come together as a community and help stomp out homelessness and hunger!!</span></span></span></span><br>\n<span style="color:#FF0000\;"><span style="font-family:tahoma\,sans-serif\;"><span style="font-size:18.0pt\;"><span style="font-size:20px\;">Resource booths</span></span></span></span><br>\n<span style="color:black\;"><span style="font-family:tahoma\,sans-serif\;"><span style="font-size:18.0pt\;"><span style="font-size:20px\;">Haircuts\, Blood Pressure\, Social Services\, Clothing\, General Merchandise<br>\nFree Groceries 10AM - 12PM<br>\nFirst 200 Families in need will receive a weeks supply of Food and other Essential items.</span><br>\n<br>\nShowers Start at 9am</span></span></span><br>\n<span style="color:black\;"><span style="font-family:tahoma\,sans-serif\;"><span style="font-size:18.0pt\;">Food Distribution Starts at 10am</span></span></span><br>\n<br>\n<strong><span style="color:red\;"><span style="font-family:tahoma\,sans-serif\;"><span style="font-size:16.0pt\;">Volunteering</span></span></span></strong><br>\n<span style="color:black\;"><span style="font-family:tahoma\,sans-serif\;"><span style="font-size:16.0pt\;">Volunteer Time: 8:30am-1pmish</span></span></span><br>\n<strong><span style="color:red\;"><span style="font-family:tahoma\,sans-serif\;"><span style="font-size:16.0pt\;">&nbsp\;Tasks:</span></span></span></strong><br>\n<span style="color:black\;"><span style="font-family:tahoma\,sans-serif\;"><span style="font-size:16.0pt\;">Serving Food\, Distributing General Merchandise/Clothing\, and Clean-Up</span></span></span><br>\n&nbsp\;<br>\n<strong><span style="color:red\;"><span style="font-family:tahoma\,sans-serif\;"><span style="font-size:16.0pt\;">Parking Information:</span></span></span></strong><br>\n&nbsp\;<br>\n<span style="color:red\;"><span style="font-family:tahoma\,sans-serif\;"><span style="font-size:16.0pt\;">Guest Parking:</span></span></span><br>\n<span style="color:black\;"><span style="font-family:tahoma\,sans-serif\;"><span style="font-size:16.0pt\;">Applied Technology School High School</span></span></span><br>\n<span style="color:black\;"><span style="font-family:tahoma\,sans-serif\;"><span style="font-size:16.0pt\;">1200 W Mines Ave.\, Montebello\, CA 90640</span></span></span><br>\n<span style="color:red\;"><span style="font-family:tahoma\,sans-serif\;"><span style="font-size:16.0pt\;">Volunteer Parking:</span></span></span><br>\n<span style="color:black\;"><span style="font-family:tahoma\,sans-serif\;"><span style="font-size:16.0pt\;">Will be at the Northwest Corner of&nbsp\;</span></span></span><br>\n<span style="color:black\;"><span style="font-family:tahoma\,sans-serif\;"><span style="font-size:16.0pt\;">Beach Street and Maple Ave.\, Montebello\, CA 90640</span></span></span></div>\n
LOCATION:600 S. Maple Ave Montebello\, CA 90640
UID:e.1156.2604
SEQUENCE:3
DTSTAMP:20260419T184433Z
URL:https://www.montebellochamber.org/events/details/hope-for-the-homeless-breakfast-2604
END:VEVENT

END:VCALENDAR
