BEGIN:VCALENDAR
VERSION:2.0
PRODID:-//ChamberMaster//Event Calendar 2.0//EN
METHOD:PUBLISH
X-PUBLISHED-TTL:P3D
REFRESH-INTERVAL:P3D
CALSCALE:GREGORIAN
BEGIN:VEVENT
DTSTART:20131207T010000Z
DTEND:20131207T050000Z
X-MICROSOFT-CDO-ALLDAYEVENT:FALSE
SUMMARY:Hot Chocolate Mixer
DESCRIPTION:This is a fundraiser event\, our goal is to purchase toys to distribute to our community and children of Veterans. We want all children to wake up and find a toy under the tree. We are asking for an unwrapped toy or ($10 or more)
X-ALT-DESC;FMTTYPE=text/html:This is a fundraiser event\, our goal is to purchase toys to distribute to our community and children of Veterans. We want all children to wake up and find a toy under the tree. We are asking for an unwrapped toy or ($10 or more) 
LOCATION:The Hook Up Resource Center 928 W. Whittier Blvd Montebello\, CA 90640
UID:e.1156.963
SEQUENCE:3
DTSTAMP:20260419T215857Z
URL:https://www.montebellochamber.org/events/details/hot-chocolate-mixer-12-06-2013-963
END:VEVENT

END:VCALENDAR
