BEGIN:VCALENDAR
VERSION:2.0
PRODID:-//ChamberMaster//Event Calendar 2.0//EN
METHOD:PUBLISH
X-PUBLISHED-TTL:P3D
REFRESH-INTERVAL:P3D
CALSCALE:GREGORIAN
BEGIN:VEVENT
DTSTART:20190622T163000Z
DTEND:20190622T193000Z
X-MICROSOFT-CDO-ALLDAYEVENT:FALSE
SUMMARY:Housing Workshop
DESCRIPTION:Summer 2019 Housing Workshop\n\n	Find out How to Buy a Home and Stop Renting\n	Down Payment Assistance\n	Home Buyer Education Classes\n	Financial Literacy Workshops\n	Education for Smoke-free Neighborhoods\n	No-Cost Energy Services Program for current homeowners\n\n\n\nSponsored by MHDC\, American Lung Association\, CTBC Bank USA and Bank of America
X-ALT-DESC;FMTTYPE=text/html:Summer 2019 Housing Workshop\n<ul>\n	<li>Find out How to Buy a Home and Stop Renting</li>\n	<li>Down Payment Assistance</li>\n	<li>Home Buyer Education Classes</li>\n	<li>Financial Literacy Workshops</li>\n	<li>Education for Smoke-free Neighborhoods</li>\n	<li>No-Cost Energy Services Program for current homeowners</li>\n</ul>\n<br />\nSponsored by MHDC\, American Lung Association\, CTBC Bank USA and Bank of America
LOCATION:Almansor Court 700 S. Almansor Court Alhambra\, CA 91801
UID:e.1156.3321
SEQUENCE:3
DTSTAMP:20260419T130014Z
URL:https://www.montebellochamber.org/events/details/housing-workshop-3321
END:VEVENT

END:VCALENDAR
