BEGIN:VCALENDAR
VERSION:2.0
PRODID:-//ChamberMaster//Event Calendar 2.0//EN
METHOD:PUBLISH
X-PUBLISHED-TTL:P3D
REFRESH-INTERVAL:P3D
CALSCALE:GREGORIAN
BEGIN:VEVENT
DTSTART:20141215T200000Z
DTEND:20141215T213000Z
X-MICROSOFT-CDO-ALLDAYEVENT:FALSE
SUMMARY:Hye Cuisine Restaurant Ribbon Cutting Ceremony
DESCRIPTION:Ribbon Cutting Ceremony of Hye Cuisine Restaurant !\n\nStep away for lunch and enjoy tasty treats while networking with your fellow chamber members. The perfect opportunity to exchange business cards\, build relationships and build business.
X-ALT-DESC;FMTTYPE=text/html:<span style="font-size:16px\;"><strong>Ribbon Cutting Ceremony of Hye Cuisine Restaurant </strong>!</span><br />\nStep away for lunch and enjoy tasty treats while networking with your fellow chamber members. The perfect opportunity to exchange business cards\, build relationships and build business.
LOCATION:2110 West Whittier Blvd\, Montebello CA 90640
UID:e.1156.1133
SEQUENCE:3
DTSTAMP:20260419T130745Z
URL:https://www.montebellochamber.org/events/details/hye-cuisine-restaurant-ribbon-cutting-ceremony-12-15-2014-1133
END:VEVENT

END:VCALENDAR
