BEGIN:VCALENDAR
VERSION:2.0
PRODID:-//ChamberMaster//Event Calendar 2.0//EN
METHOD:PUBLISH
X-PUBLISHED-TTL:P3D
REFRESH-INTERVAL:P3D
CALSCALE:GREGORIAN
BEGIN:VEVENT
DTSTART:20120213T163000Z
DTEND:20120213T173000Z
X-MICROSOFT-CDO-ALLDAYEVENT:FALSE
SUMMARY:HYPE Committee Meeting
DESCRIPTION:HYPE is a premier networking committee\, a division of the Montebello Chamber\,  for young emerging professionals and entrepreneurs in the community. It's the ideal vehicle for ambitious\, promising businessmen and businesswomen to nurture their leadership aspirations\, cultivate relationships with experienced industry professionals\, share common interests\, and advance their burgeoning careers.\n\n\n\nThe Committee meets monthly to discuss the plans and direction of future HYPE events. If you would like to be a part of this invigorating\, leader driven committee\, please contact the Montebello Chamber at 323-721-1153.\n\n\n\nFollow us on Facebook. Search HYPE Montebello
X-ALT-DESC;FMTTYPE=text/html:<p style="margin: 0in 0in 0pt\;"><span style="font-size: 12px\;"><span style="font-family: &quot\;arial&quot\;\, &quot\;sans-serif&quot\;\;">HYPE is a premier networking committee\, a division of the Montebello Chamber\, &nbsp\;for young emerging professionals and entrepreneurs in the community. It&#39\;s the ideal vehicle for ambitious\, promising businessmen and businesswomen to nurture their leadership aspirations\, cultivate relationships with experienced industry professionals\, share common interests\, and advance their burgeoning careers</span><span style="font-family: &quot\;arial&quot\;\, &quot\;sans-serif&quot\;\;">.<br />\n<br />\nThe Committee&nbsp\;meets monthly to discuss the plans and&nbsp\;direction of future HYPE&nbsp\;events. If you would like to be a part of this invigorating\, leader&nbsp\;driven committee\, please contact the Montebello Chamber at 323-721-1153.<br />\n<br />\n<span style="font-size: 14px\;"><span style="color: rgb(0\, 0\, 255)\;"><span style="background-color: rgb(255\, 255\, 0)\;">Follow us on Facebook. Search HYPE&nbsp\;Montebello </span></span></span></span></span><br />\n<span style="font-family: &quot\;arial&quot\;\, &quot\;sans-serif&quot\;\; font-size: 16pt\;"><span _fck_bookmark="1" style="display: none\;">&nbsp\;</span></span></p>\n
LOCATION:Montebello Chamber of Commerce 109 N. 19th street Montebello\, Ca 90640
UID:e.1156.16
SEQUENCE:3
DTSTAMP:20260420T112810Z
URL:https://www.montebellochamber.org/events/details/hype-committee-meeting-02-13-2012-16
END:VEVENT

END:VCALENDAR
