BEGIN:VCALENDAR
VERSION:2.0
PRODID:-//ChamberMaster//Event Calendar 2.0//EN
METHOD:PUBLISH
X-PUBLISHED-TTL:P3D
REFRESH-INTERVAL:P3D
CALSCALE:GREGORIAN
BEGIN:VEVENT
DTSTART:20120418T010000Z
DTEND:20120418T040000Z
X-MICROSOFT-CDO-ALLDAYEVENT:FALSE
SUMMARY:HYPE Fusion Mixer
DESCRIPTION:This isn't your typical "good old boys" mixer. Our Fusion Mixers are innovative\,... energetic and geared towards emerging professionals and entrepreneurs.\n\n\n\nHYPE is a premier networking committee\, a division of the Montebello Chamber\, for young emerging professionals and entrepreneurs in the community. It's the ideal vehicle for ambitious\, promising businessmen and businesswomen to nurture their leadership aspirations\, cultivate relationships with experienced industry professionals\, share common interests\, and advance their burgeoning careers.
X-ALT-DESC;FMTTYPE=text/html:<span class="caption">This isn&#39\;t your typical &quot\;good old boys&quot\; mixer. Our Fusion Mixers are innovative\,<span class="text_exposed_hide">...</span><span class="text_exposed_show"> energetic and geared towards emerging professionals and entrepreneurs.<br />\n<br />\nHYPE is a premier networking committee\, a division of the Montebello Chamber\, for young emerging professionals and entrepreneurs in the community. It&#39\;s the ideal vehicle for ambitious\, promising businessmen and businesswomen to nurture their leadership aspirations\, cultivate relationships with experienced industry professionals\, share common interests\, and advance their burgeoning careers.<span _fck_bookmark="1" style="display: none">&nbsp\;</span></span></span>
LOCATION:Crabby's Seafood and More 125 N. Montebello Blvd. Unit D Montebello\, Ca 90640
UID:e.1156.427
SEQUENCE:3
DTSTAMP:20260420T084115Z
URL:https://www.montebellochamber.org/events/details/hype-fusion-mixer-04-17-2012-427
END:VEVENT

END:VCALENDAR
