BEGIN:VCALENDAR
VERSION:2.0
PRODID:-//ChamberMaster//Event Calendar 2.0//EN
METHOD:PUBLISH
X-PUBLISHED-TTL:P3D
REFRESH-INTERVAL:P3D
CALSCALE:GREGORIAN
BEGIN:VEVENT
DTSTART:20121024T220000Z
DTEND:20121025T000000Z
X-MICROSOFT-CDO-ALLDAYEVENT:FALSE
SUMMARY:HYPE Presents Behind the Brand - Wing Lam
DESCRIPTION:HYPE presents Behind the Brand\n\n	\n\n	Join us for an exclusive meet & greet with\n\n	\n\n	WING LAM of WAHOO'S Fish Taco\n\n	\n\n	Discover the makings of the WAHOO'S Fish Taco empire with an in-depth one-on-one interview.  Listen to how Wing developed their brand\, created a culture and his keys to success.  You will leave motivated\, inspired and eager to face any entrepreneurial aspiration or challenge.\n\n	\n\n	Presented by: Montebello Chamber of Commerce
X-ALT-DESC;FMTTYPE=text/html:<p>\n	<strong>HYPE</strong> presents<strong> Behind the Brand</strong><br />\n	<br />\n	Join us for an exclusive meet &amp\; greet with<br />\n	<br />\n	<strong><span style="color: #009999">WING LAM</span></strong> of <strong>WAHOO&#39\;S Fish Taco</strong><br />\n	<br />\n	Discover the makings of the WAHOO&#39\;S Fish Taco empire with an in-depth one-on-one interview.&nbsp\; Listen to how Wing developed their brand\, created a culture and his keys to success.&nbsp\; You will leave motivated\, inspired and eager to face any entrepreneurial aspiration or challenge.<br />\n	<br />\n	Presented by: Montebello Chamber of Commerce</p>\n
LOCATION:Quiet Cannon Salon A 901 Via San Clemente Montebello\, CA 90640
UID:e.1156.657
SEQUENCE:3
DTSTAMP:20260419T231321Z
URL:https://www.montebellochamber.org/events/details/hype-presents-behind-the-brand-wing-lam-10-24-2012-657
END:VEVENT

END:VCALENDAR
