BEGIN:VCALENDAR
VERSION:2.0
PRODID:-//ChamberMaster//Event Calendar 2.0//EN
METHOD:PUBLISH
X-PUBLISHED-TTL:P3D
REFRESH-INTERVAL:P3D
CALSCALE:GREGORIAN
BEGIN:VEVENT
DTSTART:20180517T220000Z
DTEND:20180518T010000Z
X-MICROSOFT-CDO-ALLDAYEVENT:FALSE
SUMMARY:Interactive Brew Day
DESCRIPTION:Here's your chance to see what goes on in the brewhouse on brew day! Our lead brewer\, Derek invites you to join him as he brews our Piggy Back Pale Ale. You'll have a chance to ask questions and see part of the brewing process first hand. \n\n\n\nSessions start at 3PM and are 30 minutes. You must sign up for a time slot to reserve your spot. \n\n\n\nTime slots are 3PM\, 3:30PM\, 4PM\, 4:30PM\, 5PM and 5:30PM. You can sign up in the taproom.
X-ALT-DESC;FMTTYPE=text/html:<span style="color: rgb(75\, 79\, 86)\; font-family: Helvetica\, Arial\, sans-serif\; font-size: 14px\;">Here&#39\;s your chance to see what goes on in the brewhouse on brew day! Our lead brewer\, Derek invites you to join him as he brews our Piggy Back Pale Ale. You&#39\;ll have a chance to ask questions and see part of the brewing process first hand.&nbsp\;</span><br style="color: rgb(75\, 79\, 86)\; font-family: Helvetica\, Arial\, sans-serif\; font-size: 14px\;" />\n<br style="color: rgb(75\, 79\, 86)\; font-family: Helvetica\, Arial\, sans-serif\; font-size: 14px\;" />\n<span style="color: rgb(75\, 79\, 86)\; font-family: Helvetica\, Arial\, sans-serif\; font-size: 14px\;">Sessions start at 3PM and are 30 minutes. You must sign up for a time slot to reserve your spot.&nbsp\;</span><br style="color: rgb(75\, 79\, 86)\; font-family: Helvetica\, Arial\, sans-serif\; font-size: 14px\;" />\n<br style="color: rgb(75\, 79\, 86)\; font-family: Helvetica\, Arial\, sans-serif\; font-size: 14px\;" />\n<span style="color: rgb(75\, 79\, 86)\; font-family: Helvetica\, Arial\, sans-serif\; font-size: 14px\;">Time slots are 3PM\, 3:30PM\, 4PM\, 4:30PM\, 5PM and 5:30PM. You can sign up in the taproom.</span>
LOCATION:Angry Horse Brewing 603 W. Whittier Blvd.
UID:e.1156.2587
SEQUENCE:3
DTSTAMP:20260419T155819Z
URL:https://www.montebellochamber.org/events/details/interactive-brew-day-2587
END:VEVENT

END:VCALENDAR
