BEGIN:VCALENDAR
VERSION:2.0
PRODID:-//ChamberMaster//Event Calendar 2.0//EN
METHOD:PUBLISH
X-PUBLISHED-TTL:P3D
REFRESH-INTERVAL:P3D
CALSCALE:GREGORIAN
BEGIN:VEVENT
DTSTART:20180922T180000Z
DTEND:20180922T220000Z
X-MICROSOFT-CDO-ALLDAYEVENT:FALSE
SUMMARY:Jay Howell's Special Appearance
DESCRIPTION:Harry's Dugout Presents 1988 World Series Champion\, Jay Howell from 2-3pm! \n\nAlex Verdugo & Kyle Farmer from 11-12:30pm!
X-ALT-DESC;FMTTYPE=text/html:Harry&#39\;s Dugout Presents 1988 World Series Champion\, Jay Howell from 2-3pm!&nbsp\;<br />\nAlex Verdugo &amp\; Kyle Farmer from 11-12:30pm!&nbsp\;
LOCATION:Harry's Sports Memorabilia & Barber Shop/Harry's Dugout 1435 N. Montebello Blvd. Montebello\, CA 90640 (562) 484-1697
UID:e.1156.2870
SEQUENCE:3
DTSTAMP:20260419T202107Z
URL:https://www.montebellochamber.org/events/details/jay-howell-s-special-appearance-2870
END:VEVENT

END:VCALENDAR
