BEGIN:VCALENDAR
VERSION:2.0
PRODID:-//ChamberMaster//Event Calendar 2.0//EN
METHOD:PUBLISH
X-PUBLISHED-TTL:P3D
REFRESH-INTERVAL:P3D
CALSCALE:GREGORIAN
BEGIN:VEVENT
DTSTART:20121222T030000Z
DTEND:20121222T060000Z
X-MICROSOFT-CDO-ALLDAYEVENT:FALSE
SUMMARY:JAZZ for DAVE
DESCRIPTION:Art Barajas & Larry Covellone invite you to Jazz for Dave!\n\nFeaturing: The Wiseguys Montebello's Big Band Machine and the Pico Rivera City Jazz Band.\n\nYour Host: Nick Federoff from Things Green\n\n\n\nDave Ovalle is a MHS alumuni class of 1981. After facing many challenges with his own children\, Dave now faces his own. He is fighting throat cancer and is in financial hardship\, after having spent all of his savings taking care of his daughters' medical needs.  Please join this Concert for David Ovalle\, and support this even in any way possible.\n\n\n\nDonations can me made to:\n\nDave Ovalle\n\nPO Box 6432\n\nAlhambra\, CA 91802\n\n\n\nHere are some Tiy Tube links to his daughters' medical challenges\, on the Discovery Health Channel (part 1 and 2):\n\nhttp://youtu.be/oZ6FqSfpU7k\n\nhttp://youtu.be/6dGzpT5jKeg
X-ALT-DESC;FMTTYPE=text/html:Art Barajas &amp\; Larry Covellone invite you to Jazz for Dave!<br />\nFeaturing: The Wiseguys Montebello&#39\;s Big Band Machine and the Pico Rivera City Jazz Band.<br />\nYour Host: Nick Federoff from Things Green<br />\n<br />\nDave Ovalle is a MHS alumuni class of 1981. After facing many challenges with his own children\, Dave now faces his own. He is fighting throat cancer and is in financial hardship\, after having spent all of his savings taking care of his daughters&#39\; medical needs.&nbsp\; Please join this Concert for David Ovalle\, and support this even in any way possible.<br />\n<br />\nDonations can me made to:<br />\nDave Ovalle<br />\nPO Box 6432<br />\nAlhambra\, CA 91802<br />\n<br />\nHere are some Tiy Tube links to his daughters&#39\; medical challenges\, on the Discovery Health Channel (part 1 and 2):<br />\nhttp://youtu.be/oZ6FqSfpU7k<br />\nhttp://youtu.be/6dGzpT5jKeg<br />\n<br />\n
LOCATION:Montebello High School Auditorium 2100 West Cleveland Avenue\, Montebello
UID:e.1156.671
SEQUENCE:3
DTSTAMP:20260419T214358Z
URL:https://www.montebellochamber.org/events/details/jazz-for-dave-12-21-2012-671
END:VEVENT

END:VCALENDAR
