BEGIN:VCALENDAR
VERSION:2.0
PRODID:-//ChamberMaster//Event Calendar 2.0//EN
METHOD:PUBLISH
X-PUBLISHED-TTL:P3D
REFRESH-INTERVAL:P3D
CALSCALE:GREGORIAN
BEGIN:VEVENT
DTSTART;VALUE=DATE:20140923
DTEND;VALUE=DATE:20141005
TRANSP:TRANSPARENT
X-MICROSOFT-CDO-ALLDAYEVENT:TRUE
SUMMARY:Jewelry Clearance Sale
DESCRIPTION:GOLDEX FINE JEWELRY'S\n\n35TH ANNIVERSARY\n\nVAULT CLEARANCE SALE\n\n\n\nWe're cleaning out the vault and marking select jewelry\, watches and giftware up to 75% off!  Save on brand names like ESQ & Skagen!  Plus for every $100 you spend\, we'll enter you in a raffle to win a Diamond Tennis Bracelet (some restrictions apply).
X-ALT-DESC;FMTTYPE=text/html:<div style="text-align: center\;"><strong>GOLDEX FINE JEWELRY&#39\;S<br />\n35TH ANNIVERSARY<br />\nVAULT CLEARANCE SALE</strong></div>\n\n<div><br />\nWe&#39\;re cleaning out the vault and marking select jewelry\, watches and giftware up to 75% off!&nbsp\; Save on brand names like ESQ &amp\; Skagen!&nbsp\; Plus for every $100 you spend\, we&#39\;ll enter you in a raffle to win a Diamond Tennis Bracelet (some restrictions apply).</div>\n
LOCATION:Goldex Fine Jewelry 2445 W. Whittier Blvd.\, #201 Montebello\, CA 90640
UID:e.1156.1087
SEQUENCE:3
DTSTAMP:20260419T130733Z
URL:https://www.montebellochamber.org/events/details/jewelry-clearance-sale-09-23-2014-1087
END:VEVENT

END:VCALENDAR
