BEGIN:VCALENDAR
VERSION:2.0
PRODID:-//ChamberMaster//Event Calendar 2.0//EN
METHOD:PUBLISH
X-PUBLISHED-TTL:P3D
REFRESH-INTERVAL:P3D
CALSCALE:GREGORIAN
BEGIN:VEVENT
DTSTART;VALUE=DATE:20180608
DTEND;VALUE=DATE:20180708
TRANSP:TRANSPARENT
X-MICROSOFT-CDO-ALLDAYEVENT:TRUE
SUMMARY:Jewelry Summer Blowout
DESCRIPTION:Goldex Fine Jewelry\n\nJewelry Summer Blowout\n\nJune 8 through July 7\n\n\n\nLowest Prices Ever!\n\nBridal Rings & Bands\, Loose Diamonds\, Bracelets\, Necklaces\, Pendants\, Crosses\, Men's Jewelry\, Watches and much\, much more!\n\n\n\nDesigner Jewelry by Gabriel & Co.\, Kabana\, Madison L.\, Dabakaroff\, Alex A. and more!\n\n\n\nFree Entry to Win a Diamond Ring: No Purchase Necessary (see store for details)\n\nCome in and spin our prize wheel for a chance to win a gift with any purchase!
X-ALT-DESC;FMTTYPE=text/html:Goldex Fine Jewelry<br />\nJewelry Summer Blowout<br />\nJune 8 through July 7<br />\n<br />\nLowest Prices Ever!<br />\nBridal Rings &amp\; Bands\, Loose Diamonds\, Bracelets\, Necklaces\, Pendants\, Crosses\, Men&#39\;s Jewelry\, Watches and much\, much more!<br />\n<br />\nDesigner Jewelry by Gabriel &amp\; Co.\, Kabana\, Madison L.\, Dabakaroff\, Alex A. and more!<br />\n<br />\nFree Entry to Win a Diamond Ring: No Purchase Necessary (see store for details)<br />\nCome in and spin our prize wheel for a chance to win a gift with any purchase!<br />\n<br />\n&nbsp\;
LOCATION:Goldex Fine Jewelry 2445 W. Whittier Blvd.\, Suite 201 Montebello\, CA 90640
UID:e.1156.2608
SEQUENCE:3
DTSTAMP:20260419T173453Z
URL:https://www.montebellochamber.org/events/details/jewelry-summer-blowout-2608
END:VEVENT

END:VCALENDAR
