BEGIN:VCALENDAR
VERSION:2.0
PRODID:-//ChamberMaster//Event Calendar 2.0//EN
METHOD:PUBLISH
X-PUBLISHED-TTL:P3D
REFRESH-INTERVAL:P3D
CALSCALE:GREGORIAN
BEGIN:VEVENT
DTSTART:20141217T010000Z
DTEND:20141217T040000Z
X-MICROSOFT-CDO-ALLDAYEVENT:FALSE
SUMMARY:Jingle n' Mingle Mixer
DESCRIPTION:Jingle n' Mingle into the Holidays Mixer!\n\nCASH BAR* Dancing* Appetizers 50/50\n\n\n\nProudly Hosted & Sponsored by Crowne Plaza Hotel & Resorts and The Commerce Casino Los Angeles\n\n\n\nParticipating Chambers: Montebello\, Bell Gardens\, Vernon\, Commerce\, and South Gate
X-ALT-DESC;FMTTYPE=text/html:<span style="color:#FF0000\;"><span style="font-size: 16px\;"><strong>Jingle n&#39\; Mingle into the Holidays Mixer!</strong></span></span><br />\n<strong><span style="color:#006400\;"><span style="font-size: 14px\;">CASH BAR* Dancing* Appetizers 50/50<br />\n<br />\nProudly Hosted &amp\; Sponsored by Crowne Plaza Hotel &amp\; Resorts and The Commerce Casino Los Angeles<br />\n<br />\nParticipating Chambers: Montebello\, Bell Gardens\, Vernon\, Commerce\, and South Gate</span></span></strong>
LOCATION:Crown Plaza Hotel at Commerce Casino 6121 E. Telegraph Road\, Commerce CA 90040 Plenty of FREE parking or valet for $2.00
UID:e.1156.1134
SEQUENCE:3
DTSTAMP:20260419T143316Z
URL:https://www.montebellochamber.org/events/details/jingle-n-mingle-mixer-12-16-2014-1134
END:VEVENT

END:VCALENDAR
