BEGIN:VCALENDAR
VERSION:2.0
PRODID:-//ChamberMaster//Event Calendar 2.0//EN
METHOD:PUBLISH
X-PUBLISHED-TTL:P3D
REFRESH-INTERVAL:P3D
CALSCALE:GREGORIAN
BEGIN:VEVENT
DTSTART:20190815T170000Z
DTEND:20190815T200000Z
X-MICROSOFT-CDO-ALLDAYEVENT:FALSE
SUMMARY:JOB FAIR- Archdiocesan Youth Employment Services-Dodger Stadium
DESCRIPTION:Equal Opportunity Employers \n\n24th Annual Community JOB FAIR hosted by the Los Angeles Dodgers
X-ALT-DESC;FMTTYPE=text/html:Equal Opportunity Employers&nbsp\;<br />\n24th Annual Community JOB FAIR hosted by the Los Angeles Dodgers
LOCATION:Dodger Stadium 1000 Vin Scully Ave Los Angeles\, CA 90012
UID:e.1156.3385
SEQUENCE:3
DTSTAMP:20260419T130801Z
URL:https://www.montebellochamber.org/events/details/job-fair-archdiocesan-youth-employment-services-dodger-stadium-3385
END:VEVENT

END:VCALENDAR
