BEGIN:VCALENDAR
VERSION:2.0
PRODID:-//ChamberMaster//Event Calendar 2.0//EN
METHOD:PUBLISH
X-PUBLISHED-TTL:P3D
REFRESH-INTERVAL:P3D
CALSCALE:GREGORIAN
BEGIN:VEVENT
DTSTART:20181124T200000Z
DTEND:20181124T210000Z
X-MICROSOFT-CDO-ALLDAYEVENT:FALSE
SUMMARY:Joe Montana Appearance Harry's Sports Memorabilia & Barber Shop
DESCRIPTION:Meet 3-time SB MVP\, 4-time SB Champion &2000 Hall of Famer \n\nJOE MONTANA
X-ALT-DESC;FMTTYPE=text/html:Meet 3-time SB MVP\, 4-time SB Champion &amp\;2000 Hall of Famer&nbsp\;<br />\nJOE MONTANA&nbsp\;
LOCATION:Harry's Sports Memorabilia & Barber Shop 1435 N. Montebello Blvd. Montebello\, CA 90640
UID:e.1156.2872
SEQUENCE:3
DTSTAMP:20260419T174103Z
URL:https://www.montebellochamber.org/events/details/joe-montana-appearance-harry-s-sports-memorabilia-barber-shop-2872
END:VEVENT

END:VCALENDAR
