BEGIN:VCALENDAR
VERSION:2.0
PRODID:-//ChamberMaster//Event Calendar 2.0//EN
METHOD:PUBLISH
X-PUBLISHED-TTL:P3D
REFRESH-INTERVAL:P3D
CALSCALE:GREGORIAN
BEGIN:VEVENT
DTSTART;VALUE=DATE:20150525
DTEND;VALUE=DATE:20150526
TRANSP:TRANSPARENT
X-MICROSOFT-CDO-ALLDAYEVENT:TRUE
SUMMARY:Join Us for the 95th Annual Memorial Day Observance
DESCRIPTION:Armed Forces Remembrance Trees Military History Display: featuring WWII\, Korean War\, Vietnam War\, Afghanistan\, and Iraq And To Feature Vintage Airplane Fly Over
X-ALT-DESC;FMTTYPE=text/html:Armed Forces Remembrance Trees Military History Display: featuring WWII\, Korean War\, Vietnam War\, Afghanistan\, and Iraq And To Feature Vintage Airplane Fly Over
LOCATION:Rose Hills Memorial Day Park 3888 Workman Mill Rd\, Whittier\,CA 90601
UID:e.1156.1379
SEQUENCE:3
DTSTAMP:20260419T202631Z
URL:https://www.montebellochamber.org/events/details/join-us-for-the-95th-annual-memorial-day-observance-05-25-2015-1379
END:VEVENT

END:VCALENDAR
