BEGIN:VCALENDAR
VERSION:2.0
PRODID:-//ChamberMaster//Event Calendar 2.0//EN
METHOD:PUBLISH
X-PUBLISHED-TTL:P3D
REFRESH-INTERVAL:P3D
CALSCALE:GREGORIAN
BEGIN:VEVENT
DTSTART:20190823T010000Z
DTEND:20190823T030000Z
X-MICROSOFT-CDO-ALLDAYEVENT:FALSE
SUMMARY:Joint Chamber Mixer
DESCRIPTION:Make personal and professional connections with other business people in our community at this joint networking event for Montebello and East Los Angeles Chamber members sponsored by Wells Fargo Bank.\n\n\n\nYou're invited to join Wells Fargo\, East Los Angeles Chamber of Commerce\, and Montebello Chamber of Commerce.
X-ALT-DESC;FMTTYPE=text/html:Make personal and professional connections with other business people in our community at this joint networking event for Montebello and East Los Angeles Chamber members sponsored by Wells Fargo Bank.<br />\n<br />\nYou&#39\;re invited to join Wells Fargo\, East Los Angeles Chamber of Commerce\, and Montebello Chamber of Commerce.
LOCATION:Wells Fargo Montebello branch 77 Whittier Blvd. Montebello\, CA 90640
UID:e.1156.3381
SEQUENCE:3
DTSTAMP:20260419T130156Z
URL:https://www.montebellochamber.org/events/details/joint-chamber-mixer-3381
END:VEVENT

END:VCALENDAR
