BEGIN:VCALENDAR
VERSION:2.0
PRODID:-//ChamberMaster//Event Calendar 2.0//EN
METHOD:PUBLISH
X-PUBLISHED-TTL:P3D
REFRESH-INTERVAL:P3D
CALSCALE:GREGORIAN
BEGIN:VEVENT
DTSTART;VALUE=DATE:20200701
DTEND;VALUE=DATE:20200702
TRANSP:TRANSPARENT
X-MICROSOFT-CDO-ALLDAYEVENT:TRUE
SUMMARY:Journey through Rose Hills
DESCRIPTION:Journey through Rose Hills for a chance to win: July 1-31\n\n \n\nJourney through Rose Hills is a virtual activity that allows our community to come and experience the largest single location memorial park in the nation. Discover hidden treasures and learn more about Rose Hills\, its history\, different cultures\, iconic landmarks and features within our 1\,400-acre memorial park. \n\n \n\nDownload and print the Journey through Rose Hills map from their Facebook event page on June 30 or from their website\, www.RoseHills.com. The Journey is available to families from July 1 to July 31. Each icon in the Journey leads you to an answer to the questions listed on the map. Complete the answers and email to Events@RoseHills.com for a chance to win one of several prizes. \n\n \n\nFor more information\, email Events@RoseHills.com or visit our Facebook event page: https://www.facebook.com/events/3946383545436460/
X-ALT-DESC;FMTTYPE=text/html:<strong><span style="color:#990033\;">Journey through Rose Hills for a chance to win: July 1-31</span></strong><br />\n&nbsp\;<br />\n<span style="color:#1C1E21\;">Journey through Rose Hills is a virtual activity that allows our community to come and experience the largest single location memorial park in the nation. Discover hidden treasures and learn more about Rose Hills\, its history\, different cultures\, iconic landmarks and features within our 1\,400-acre memorial park. </span><br />\n&nbsp\;<br />\n<span style="color:#1C1E21\;">Download and print the Journey through Rose Hills map from their </span><a href="https://www.facebook.com/events/3946383545436460/">Facebook event page</a><span style="color:#1C1E21\;"> <span style="background:yellow\;">on June 30</span> or from their website\, </span><a href="http://www.RoseHills.com">www.RoseHills.com</a><span style="color:#1C1E21\;">. The Journey is available to families from July 1 to July 31. Each icon in the Journey leads you to an answer to the questions listed on the map. Complete the answers and email to <a href="mailto:Events@RoseHills.com">Events@RoseHills.com</a> for a chance to win one of several prizes. </span><br />\n&nbsp\;<br />\n<span style="color:#1C1E21\;">For more information\, email </span><a href="mailto:Events@RoseHills.com">Events@RoseHills.com</a><span style="color:#1C1E21\;"> or visit our Facebook event page: </span><a href="https://www.facebook.com/events/3946383545436460/">https://www.facebook.com/events/3946383545436460/</a><br />\n&nbsp\;<br />\n&nbsp\;
LOCATION:Virtual tour
UID:e.1156.3737
SEQUENCE:3
DTSTAMP:20260419T143110Z
URL:https://www.montebellochamber.org/events/details/journey-through-rose-hills-3737
END:VEVENT

END:VCALENDAR
