BEGIN:VCALENDAR
VERSION:2.0
PRODID:-//ChamberMaster//Event Calendar 2.0//EN
METHOD:PUBLISH
X-PUBLISHED-TTL:P3D
REFRESH-INTERVAL:P3D
CALSCALE:GREGORIAN
BEGIN:VEVENT
DTSTART:20200611T193000Z
DTEND:20200611T210000Z
X-MICROSOFT-CDO-ALLDAYEVENT:FALSE
SUMMARY:Kaiser Permanente Reopening-Restarting the Workforce
DESCRIPTION:Kaiser Permanente -The Science of COVID-19 Restarting the Workforce!  Valuable insights on the growing evidence of effective mitigation strategies and the various tactics employers can deploy to safely open back up for business: \n\n-Clinical updates-Current state of the pandemic\, including treatment and testing insights.\n\n-Getting back to business-How do we safetly get back to business?  The three phases of returning to work\n\n-FAQ's-Common qustions around clinical and operational processes.
X-ALT-DESC;FMTTYPE=text/html:Kaiser Permanente -The Science of COVID-19 Restarting the Workforce!&nbsp\; Valuable insights on the growing evidence of effective mitigation strategies and the various tactics employers can deploy to safely open back up for business:&nbsp\;<br />\n-Clinical updates-Current state of the pandemic\, including treatment and testing insights.<br />\n-Getting back to business-How do we safetly get back to business?&nbsp\; The three phases of returning to work<br />\n-FAQ&#39\;s-Common qustions around clinical and operational processes.
LOCATION:On-line
UID:e.1156.3701
SEQUENCE:3
DTSTAMP:20260419T160150Z
URL:https://www.montebellochamber.org/events/details/kaiser-permanente-reopening-restarting-the-workforce-3701
END:VEVENT

END:VCALENDAR
