BEGIN:VCALENDAR
VERSION:2.0
PRODID:-//ChamberMaster//Event Calendar 2.0//EN
METHOD:PUBLISH
X-PUBLISHED-TTL:P3D
REFRESH-INTERVAL:P3D
CALSCALE:GREGORIAN
BEGIN:VEVENT
DTSTART:20191215T040000Z
DTEND:20191215T070000Z
X-MICROSOFT-CDO-ALLDAYEVENT:FALSE
SUMMARY:Karaoke Night at Angry Horse Brewing
DESCRIPTION:Holiday Karaoke
X-ALT-DESC;FMTTYPE=text/html:Holiday Karaoke
LOCATION:Angry Horse Brewing 603 W. Whittier Blvd.\, Montebello\, California
UID:e.1156.3539
SEQUENCE:3
DTSTAMP:20260419T143512Z
URL:https://www.montebellochamber.org/events/details/karaoke-night-at-angry-horse-brewing-3539
END:VEVENT

END:VCALENDAR
