BEGIN:VCALENDAR
VERSION:2.0
PRODID:-//ChamberMaster//Event Calendar 2.0//EN
METHOD:PUBLISH
X-PUBLISHED-TTL:P3D
REFRESH-INTERVAL:P3D
CALSCALE:GREGORIAN
BEGIN:VEVENT
DTSTART:20190524T020000Z
DTEND:20190524T043000Z
X-MICROSOFT-CDO-ALLDAYEVENT:FALSE
SUMMARY:Karaoke Night w/DJish at Angry Horse Brewing
DESCRIPTION:Angry Horse Brewing introducing Karaoke Nights!  Love it or hate it we promise it'll be a good time with DJ@theish05.  He'll have you singing and dancing in no time.  We'll help with the liquid courage.
X-ALT-DESC;FMTTYPE=text/html:Angry Horse Brewing introducing Karaoke Nights!&nbsp\; Love it or hate it we promise it&#39\;ll be a good time with DJ@theish05.&nbsp\; He&#39\;ll have you singing and dancing in no time.&nbsp\; We&#39\;ll help with the liquid courage.&nbsp\;
LOCATION:Angry Horse Brewing 603 W. Whittier Blvd. Montebello\, CA 90640
UID:e.1156.3306
SEQUENCE:3
DTSTAMP:20260420T114010Z
URL:https://www.montebellochamber.org/events/details/karaoke-night-w-djish-at-angry-horse-brewing-3306
END:VEVENT

END:VCALENDAR
