BEGIN:VCALENDAR
VERSION:2.0
PRODID:-//ChamberMaster//Event Calendar 2.0//EN
METHOD:PUBLISH
X-PUBLISHED-TTL:P3D
REFRESH-INTERVAL:P3D
CALSCALE:GREGORIAN
BEGIN:VEVENT
DTSTART:20191124T040000Z
DTEND:20191124T070000Z
X-MICROSOFT-CDO-ALLDAYEVENT:FALSE
SUMMARY:Karaoke Night w/DJish at Angry Horse Brewing
DESCRIPTION:Karaoke Night is moving to Saturday for the month of November. Love it or hate it\, we promise it'll be a good time with DJ Ish. He'll have you singing and dancing in no time. We'll help with the liquid courage. Starts at 8pm.
X-ALT-DESC;FMTTYPE=text/html:<span>Karaoke Night is moving to Saturday for the month of November. Love it or hate it\, we promise it&#39\;ll be a good time with DJ Ish. He&#39\;ll have you singing and dancing in no time. We&#39\;ll help with the liquid courage. Starts at 8pm.</span>
LOCATION:Angry Horse Brewing 603 W. Whittier Blvd. Montebello\, CA 90640
UID:e.1156.3510
SEQUENCE:3
DTSTAMP:20260419T160450Z
URL:https://www.montebellochamber.org/events/details/karaoke-night-w-djish-at-angry-horse-brewing-3510
END:VEVENT

END:VCALENDAR
