BEGIN:VCALENDAR
VERSION:2.0
PRODID:-//ChamberMaster//Event Calendar 2.0//EN
METHOD:PUBLISH
X-PUBLISHED-TTL:P3D
REFRESH-INTERVAL:P3D
CALSCALE:GREGORIAN
BEGIN:VEVENT
DTSTART:20191214T000000Z
DTEND:20191214T013000Z
X-MICROSOFT-CDO-ALLDAYEVENT:FALSE
SUMMARY:Kids Club at The Shops at Montebello
DESCRIPTION:Join the Shops at Montebello for Kids Club featuring the Montebello Fire Department\, balloon art\, face painting\, a coloring station\, snacks\, giveaways\, special offers and MORE!\n\n\n\nCheck in with Guest Services and receive a coupon for 20% off your Santa photos!
X-ALT-DESC;FMTTYPE=text/html:<span style="color:#222222\;"><span style="font-size:10.5pt\;">Join the Shops at Montebello&nbsp\;for Kids Club featuring the Montebello Fire Department\, balloon art\, face painting\, a coloring station\, snacks\, giveaways\, special offers and MORE!</span></span><br />\n<br />\n<span style="color:#222222\;"><span style="font-size:10.5pt\;">Check in with Guest Services and receive a coupon for 20% off your Santa photos!</span></span><br />\n&nbsp\;
LOCATION:The Shops at Montebello 2134 Montebello Town Center Drive Montebello\, CA 90640
UID:e.1156.3499
SEQUENCE:3
DTSTAMP:20260419T143710Z
URL:https://www.montebellochamber.org/events/details/kids-club-at-the-shops-at-montebello-3499
END:VEVENT

END:VCALENDAR
