BEGIN:VCALENDAR
VERSION:2.0
PRODID:-//ChamberMaster//Event Calendar 2.0//EN
METHOD:PUBLISH
X-PUBLISHED-TTL:P3D
REFRESH-INTERVAL:P3D
CALSCALE:GREGORIAN
BEGIN:VEVENT
DTSTART:20200215T000000Z
DTEND:20200215T013000Z
X-MICROSOFT-CDO-ALLDAYEVENT:FALSE
SUMMARY:Kids Club at The Shops at Montebello
DESCRIPTION:Join the Shops at Montebello for Kids Club featuring snacks\, giveaways\, special offers and MORE!\n\nCome celebrate Valentine's Day with a Valentine's Day Dance for kids! Plus enjoy making a Valentine's Day craft!
X-ALT-DESC;FMTTYPE=text/html:<span style="box-sizing:border-box\;"><span style="color:#222222\;"><span style="font-size:10.5pt\;">Join the Shops at Montebello&nbsp\;for Kids Club featuring snacks\, giveaways\, special offers and MORE!</span></span></span><br />\n<span style="box-sizing:border-box\;box-sizing:border-box\;"><span style="color:#222222\;">Come celebrate Valentine&#39\;s Day with a Valentine&#39\;s Day Dance for kids! Plus enjoy making a Valentine&#39\;s Day craft!&nbsp\;</span></span>
LOCATION:The Shops at Montebello 2134 Montebello Town Center Drive Montebello\, CA 90640
UID:e.1156.3598
SEQUENCE:3
DTSTAMP:20260419T114732Z
URL:https://www.montebellochamber.org/events/details/kids-club-at-the-shops-at-montebello-3598
END:VEVENT

END:VCALENDAR
