BEGIN:VCALENDAR
VERSION:2.0
PRODID:-//ChamberMaster//Event Calendar 2.0//EN
METHOD:PUBLISH
X-PUBLISHED-TTL:P3D
REFRESH-INTERVAL:P3D
CALSCALE:GREGORIAN
BEGIN:VEVENT
DTSTART:20190614T230000Z
DTEND:20190615T003000Z
X-MICROSOFT-CDO-ALLDAYEVENT:FALSE
SUMMARY:Kids Club Event
DESCRIPTION:Golf and Stuff will take over the Kids Club Event! Join The Shops at Montebello for a family filled day with the finest fun! Be sure to drop by and join the putt fun. We will have a miniature Golf course and the Golf and Stuff mascot\, Mr. King Putt himself! Along with face painting and a fun craft. FREE activities\, snacks and giveaways!
X-ALT-DESC;FMTTYPE=text/html:Golf and Stuff will take over the Kids Club Event! Join The Shops at Montebello for a family filled day with the finest fun! Be sure to drop by and join the putt fun. We will have a miniature Golf course and the Golf and Stuff mascot\, Mr. King Putt himself! Along with face painting and a fun craft. FREE activities\, snacks and giveaways!
LOCATION:The Shops at Montebello 2134 Montebello Town Center Drive Montebello\, CA 90640
UID:e.1156.3325
SEQUENCE:3
DTSTAMP:20260419T130326Z
URL:https://www.montebellochamber.org/events/details/kids-club-event-3325
END:VEVENT

END:VCALENDAR
