BEGIN:VCALENDAR
VERSION:2.0
PRODID:-//ChamberMaster//Event Calendar 2.0//EN
METHOD:PUBLISH
X-PUBLISHED-TTL:P3D
REFRESH-INTERVAL:P3D
CALSCALE:GREGORIAN
BEGIN:VEVENT
DTSTART:20191109T000000Z
DTEND:20191109T013000Z
X-MICROSOFT-CDO-ALLDAYEVENT:FALSE
SUMMARY:Kids Club @ The Shops at Montebello
DESCRIPTION:Play in Real Life!  oin the Shops at Montebello for Kids Club featuring the Fire Department/Police Department\, balloon art\, face paining\, snacks\, giveaways and MORE!
X-ALT-DESC;FMTTYPE=text/html:Play in Real Life!&nbsp\; <span style="font-size: 10.5pt\; color: rgb(34\, 34\, 34)\;">oin the Shops at Montebello&nbsp\;for Kids Club featuring the Fire Department/Police Department\, balloon art\, face paining\, snacks\, giveaways and MORE!</span>
LOCATION:The Shops at Montebello 2134 Town Center Drive Montebello\, CA 90640
UID:e.1156.3491
SEQUENCE:3
DTSTAMP:20260419T160452Z
URL:https://www.montebellochamber.org/events/details/kids-club-the-shops-at-montebello-3491
END:VEVENT

END:VCALENDAR
