BEGIN:VCALENDAR
VERSION:2.0
PRODID:-//ChamberMaster//Event Calendar 2.0//EN
METHOD:PUBLISH
X-PUBLISHED-TTL:P3D
REFRESH-INTERVAL:P3D
CALSCALE:GREGORIAN
BEGIN:VEVENT
DTSTART:20200603T220000Z
DTEND:20200603T233000Z
X-MICROSOFT-CDO-ALLDAYEVENT:FALSE
SUMMARY:L.A. County Supervisor Hilda Solis Reopening Webinar
DESCRIPTION:Los Angeles County Supervisor Hilda L. Solis-Webinar:  Economic Recovery for LA County Businesses
X-ALT-DESC;FMTTYPE=text/html:Los Angeles County Supervisor Hilda L. Solis-Webinar:&nbsp\; Economic Recovery for LA County Businesses
LOCATION:Webinar
UID:e.1156.3700
SEQUENCE:3
DTSTAMP:20260419T160128Z
URL:https://www.montebellochamber.org/events/details/l-a-county-supervisor-hilda-solis-reopening-webinar-3700
END:VEVENT

END:VCALENDAR
