BEGIN:VCALENDAR
VERSION:2.0
PRODID:-//ChamberMaster//Event Calendar 2.0//EN
METHOD:PUBLISH
X-PUBLISHED-TTL:P3D
REFRESH-INTERVAL:P3D
CALSCALE:GREGORIAN
BEGIN:VEVENT
DTSTART:20130816T020000Z
DTEND:20130817T040000Z
X-MICROSOFT-CDO-ALLDAYEVENT:FALSE
SUMMARY:Ladies Night Party
DESCRIPTION:Come celebrate womanhood at Heavenly Choice.\n\n\n\nTwo beautiful evening filled with Ben Nye make-up demos \,\n\nmassage Candles\, and herbal blended Kamasutra Bath products.\n\n\n\nLot's of samples\, Margaritas & Munchies\n\n\n\nOur 2 Week Annual Summer CORSET Sale starts on Aug 15th\n\nCome in early for the best Selection
X-ALT-DESC;FMTTYPE=text/html:<strong><span style="background-color: rgb(238\, 130\, 238)\;">Come celebrate womanhood at Heavenly Choice.</span></strong><br />\n<br />\nTwo beautiful evening filled with Ben Nye make-up demos \,<br />\nmassage Candles\, and herbal blended Kamasutra Bath products.<br />\n<br />\n<span style="font-size: 14px\;"><strong><span style="color: rgb(128\, 0\, 128)\;">Lot&#39\;s of samples\, Margaritas &amp\; Munchies</span></strong></span><br />\n<br />\nOur 2 Week Annual Summer CORSET Sale starts on Aug 15th<br />\nCome in early for the best Selection
LOCATION:Heavenly Choice 534 N. Montebello Blvd. Montebello\, CA 90640
UID:e.1156.932
SEQUENCE:3
DTSTAMP:20260419T160226Z
URL:https://www.montebellochamber.org/events/details/ladies-night-party-08-15-2013-932
END:VEVENT

END:VCALENDAR
