BEGIN:VCALENDAR
VERSION:2.0
PRODID:-//ChamberMaster//Event Calendar 2.0//EN
METHOD:PUBLISH
X-PUBLISHED-TTL:P3D
REFRESH-INTERVAL:P3D
CALSCALE:GREGORIAN
BEGIN:VEVENT
DTSTART:20150129T023000Z
DTEND:20150129T050000Z
X-MICROSOFT-CDO-ALLDAYEVENT:FALSE
SUMMARY:Ladies Nites of Romance
DESCRIPTION:Ladies come out \, have a drink and learn about the art of romance.\n\nComplimentry Happy Hour starts at 6:30 drop in for a Margarita or Wine.\n\nStay for the fun as we Plan a romantic Valentines evening or weekend?\n\nWant  to seduce your man or just have 50 shades of fun.\n\nTime to open your eyes to the world of exotic Dance and movement.\n\nStart flirting a few days before the big night\, tease with your eyes\, lips\,\n\nespecially your atitude. Create an atmosphere that says I want YOU !\n\nGet your mojo in gear and learn all the new toys body oils & games to\n\nmake your private time more exciting. See you next Wed at 6:30
X-ALT-DESC;FMTTYPE=text/html:Ladies come out \, have a drink and learn about the art of romance.<br />\n<span style="font-size:12px\;"><span style="color: rgb(255\, 0\, 0)\;"><strong>Complimentry Happy Hour starts at 6:30</strong></span> </span>drop in for a Margarita or Wine.<br />\nStay for the fun as we Plan a romantic Valentines evening or weekend?<br />\nWant&nbsp\; to seduce your man or just have 50 shades of fun.<br />\nTime to open your eyes to the world of exotic Dance and movement.<br />\nStart flirting a few days before the big night\, tease with your eyes\, lips\,<br />\nespecially your atitude. Create an atmosphere that says I want YOU !<br />\nGet your mojo in gear and learn all the new toys body oils &amp\; games to<br />\nmake your private time more exciting. See you next Wed at 6:30<br />\n&nbsp\;
LOCATION:Heavenly Choice 534 N. Montebello\, Blvd. Montebello\, CA 90640
UID:e.1156.1350
SEQUENCE:3
DTSTAMP:20260419T143707Z
URL:https://www.montebellochamber.org/events/details/ladies-nites-of-romance-01-28-2015-1350
END:VEVENT

END:VCALENDAR
