BEGIN:VCALENDAR
VERSION:2.0
PRODID:-//ChamberMaster//Event Calendar 2.0//EN
METHOD:PUBLISH
X-PUBLISHED-TTL:P3D
REFRESH-INTERVAL:P3D
CALSCALE:GREGORIAN
BEGIN:VEVENT
DTSTART:20150212T023000Z
DTEND:20150212T050000Z
X-MICROSOFT-CDO-ALLDAYEVENT:FALSE
SUMMARY:Ladies Nites of Romance Every Wed Nite
DESCRIPTION:Ladies come out \, have a drink and learn about the art of romance.\n\nComplimentary Happy Hour starts at 6:30 drop in for a Margarita or Wine.\n\nStay for the fun as we Plan a romantic Valentines evening or weekend?\n\nWant  to seduce your man or just have 50 shades of fun.\n\nTime to open your eyes to the world of exotic Dance and movement.\n\nStart flirting a few days before the big night\, tease with your eyes\, lips\,
X-ALT-DESC;FMTTYPE=text/html:Ladies come out \, have a drink and learn about the art of romance.<br />\n<span style="color:#B22222\;"><strong>Complimentary Happy Hour starts at 6:30 drop in for a Margarita or Wine.</strong></span><br />\nStay for the fun as we Plan a romantic Valentines evening or weekend?<br />\nWant&nbsp\; to seduce your man o<span style="color:#800080\;"><strong>r just have 50 shades of fun.</strong></span><br />\nTime to open your eyes to the world of exotic Dance and movement.<br />\nStart flirting a few days before the big night\, tease with your eyes\, lips\,
LOCATION:Heavenly Choice 534 N. Montebello Blvd. ( 1 Block North of Beverly ) Montebello\, CA 90640
UID:e.1156.1352
SEQUENCE:3
DTSTAMP:20260419T174032Z
URL:https://www.montebellochamber.org/events/details/ladies-nites-of-romance-every-wed-nite-02-11-2015-1352
END:VEVENT

END:VCALENDAR
