BEGIN:VCALENDAR
VERSION:2.0
PRODID:-//ChamberMaster//Event Calendar 2.0//EN
METHOD:PUBLISH
X-PUBLISHED-TTL:P3D
REFRESH-INTERVAL:P3D
CALSCALE:GREGORIAN
BEGIN:VEVENT
DTSTART:20130123T220000Z
DTEND:20130124T000000Z
X-MICROSOFT-CDO-ALLDAYEVENT:FALSE
SUMMARY:Landscape Class
DESCRIPTION:This class is FREE and open to Montebello residents interested in replacing their grass with drought tolerant landscape. You will learn the steps necessary to create a cost effective design for you home.  We will accept 35 participants to sign up to reserve your spot!
X-ALT-DESC;FMTTYPE=text/html:This class is FREE and open to Montebello residents interested in replacing their grass with drought tolerant landscape. You will learn the steps necessary to create a cost effective design for you home.&nbsp\; We will accept 35 participants to sign up to reserve your spot!
LOCATION:Montebello Senior Center 115 S. Taylor Ave Montebello\, CA 90640
UID:e.1156.678
SEQUENCE:3
DTSTAMP:20260419T184234Z
URL:https://www.montebellochamber.org/events/details/landscape-class-01-23-2013-678
END:VEVENT

END:VCALENDAR
