BEGIN:VCALENDAR
VERSION:2.0
PRODID:-//ChamberMaster//Event Calendar 2.0//EN
METHOD:PUBLISH
X-PUBLISHED-TTL:P3D
REFRESH-INTERVAL:P3D
CALSCALE:GREGORIAN
BEGIN:VEVENT
DTSTART;VALUE=DATE:20140915
DTEND;VALUE=DATE:20141016
TRANSP:TRANSPARENT
X-MICROSOFT-CDO-ALLDAYEVENT:TRUE
SUMMARY:Latino Hertiage Celebration September 15- October 15
DESCRIPTION:Montebello Latino Heritage Celebration September 15- October 15\, 2014 \n\nCo-Sponsored/ Participants by City of Montebello\, Montebello Youth Commission\, Montebello Chamber of Commerce\, Montebello  Unified School District\, Montebello Teachers Associations\, County of Los Angeles Public Library- Montebello and Chet Holifield Libraries and Cantwell Scared Heart of Mary High School\n\n\n\nThe purpose of the Latino Heritage Month Celebration educational and cultural programs is to foster a greater appreciation of Latino history and to promote greater access to arts and cultural resources within Montebello
X-ALT-DESC;FMTTYPE=text/html:<strong>Montebello Latino Heritage Celebration September 15- October 15\, 2014 </strong><br />\nCo-Sponsored/ Participants by City of Montebello\, Montebello Youth Commission\, Montebello Chamber of Commerce\, Montebello&nbsp\; Unified School District\, Montebello Teachers Associations\, County of Los Angeles Public Library- Montebello and Chet Holifield Libraries and Cantwell Scared Heart of Mary High School<br />\n<br />\n<strong>The purpose of the Latino Heritage Month Celebration educational and cultural programs is to foster a greater appreciation of Latino history and to promote greater access to arts and cultural resources within Montebello</strong>
LOCATION:Please refer to flyer
UID:e.1156.1091
SEQUENCE:3
DTSTAMP:20260419T143641Z
URL:https://www.montebellochamber.org/events/details/latino-hertiage-celebration-september-15-october-15-09-15-2014-1091
END:VEVENT

END:VCALENDAR
