BEGIN:VCALENDAR
VERSION:2.0
PRODID:-//ChamberMaster//Event Calendar 2.0//EN
METHOD:PUBLISH
X-PUBLISHED-TTL:P3D
REFRESH-INTERVAL:P3D
CALSCALE:GREGORIAN
BEGIN:VEVENT
DTSTART:20190928T160000Z
DTEND:20190928T230000Z
X-MICROSOFT-CDO-ALLDAYEVENT:FALSE
SUMMARY:Lions Club-2nd Annual Diabetes\, Health\, & Wellness Awareness Expo
DESCRIPTION:Local Lions in partnership with the American Diabetes Association\, Walmart having their 2nd Annual Diabetes\, Health\, & Wellness Awareness Expo!  Join them and learn more about diabetes.  Hear from the experts\; see great demonstration for all ages.  Diabetes is one of the fastest-growing diseases in the world today\, currently affecting 422 million people of all races\, income levels\, and ages\, even children.  As Lions\, they are dedicated to fight the diabetes epidemic to improve lives\, strengthen families and revitalize communities.
X-ALT-DESC;FMTTYPE=text/html:Local Lions in partnership with the American Diabetes Association\, Walmart having their 2nd Annual Diabetes\, Health\, &amp\; Wellness Awareness Expo!&nbsp\; Join them and learn more about diabetes.&nbsp\; Hear from the experts\; see great demonstration for all ages.&nbsp\; Diabetes is one of the fastest-growing diseases in the world today\, currently affecting 422 million people of all races\, income levels\, and ages\, even children.&nbsp\; As Lions\, they are dedicated to fight the diabetes epidemic to improve lives\, strengthen families and revitalize communities.&nbsp\;
LOCATION:Applied Technology Center 1200 W. Mines Ave. Montebello\, CA 90640
UID:e.1156.3408
SEQUENCE:3
DTSTAMP:20260419T174147Z
URL:https://www.montebellochamber.org/events/details/lions-club-2nd-annual-diabetes-health-wellness-awareness-expo-3408
END:VEVENT

END:VCALENDAR
